BEGIN:VCALENDAR
VERSION:2.0
PRODID:-//Mirkin - ECPv6.15.20//NONSGML v1.0//EN
CALSCALE:GREGORIAN
METHOD:PUBLISH
X-WR-CALNAME:Mirkin
X-ORIGINAL-URL:https://mirkin-group.northwestern.edu
X-WR-CALDESC:Events for Mirkin
REFRESH-INTERVAL;VALUE=DURATION:PT1H
X-Robots-Tag:noindex
X-PUBLISHED-TTL:PT1H
BEGIN:VTIMEZONE
TZID:America/Chicago
BEGIN:DAYLIGHT
TZOFFSETFROM:-0600
TZOFFSETTO:-0500
TZNAME:CDT
DTSTART:20140309T080000
END:DAYLIGHT
BEGIN:STANDARD
TZOFFSETFROM:-0500
TZOFFSETTO:-0600
TZNAME:CST
DTSTART:20141102T070000
END:STANDARD
BEGIN:DAYLIGHT
TZOFFSETFROM:-0600
TZOFFSETTO:-0500
TZNAME:CDT
DTSTART:20150308T080000
END:DAYLIGHT
BEGIN:STANDARD
TZOFFSETFROM:-0500
TZOFFSETTO:-0600
TZNAME:CST
DTSTART:20151101T070000
END:STANDARD
BEGIN:DAYLIGHT
TZOFFSETFROM:-0600
TZOFFSETTO:-0500
TZNAME:CDT
DTSTART:20160313T080000
END:DAYLIGHT
BEGIN:STANDARD
TZOFFSETFROM:-0500
TZOFFSETTO:-0600
TZNAME:CST
DTSTART:20161106T070000
END:STANDARD
BEGIN:DAYLIGHT
TZOFFSETFROM:-0600
TZOFFSETTO:-0500
TZNAME:CDT
DTSTART:20170312T080000
END:DAYLIGHT
BEGIN:STANDARD
TZOFFSETFROM:-0500
TZOFFSETTO:-0600
TZNAME:CST
DTSTART:20171105T070000
END:STANDARD
END:VTIMEZONE
BEGIN:VEVENT
DTSTART;TZID=America/Chicago:20161121T080000
DTEND;TZID=America/Chicago:20161121T170000
DTSTAMP:20260424T062754
CREATED:20161121T162124Z
LAST-MODIFIED:20161121T162140Z
UID:1152-1479715200-1479747600@mirkin-group.northwestern.edu
SUMMARY:Sun Times Sunday Sitdown: Chad Mirkin
DESCRIPTION:Prof. Mirkin was features in the Chicago Sun Times Sunday Sitdown. You can read the article here.
URL:https://mirkin-group.northwestern.edu/event/sun-times-sunday-sitdown-chad-mirkin/
END:VEVENT
BEGIN:VEVENT
DTSTART;VALUE=DATE:20151203
DTEND;VALUE=DATE:20151204
DTSTAMP:20260424T062754
CREATED:20151123T194947Z
LAST-MODIFIED:20151123T194947Z
UID:641-1449100800-1449187199@mirkin-group.northwestern.edu
SUMMARY:Hockey Specials
DESCRIPTION:Watch hockey and enjoy our food specials on Saturdays & Sundays in Old Town. Looking to reserve the best seats in the house? Check our hockey reservations policy and book in advance!
URL:https://mirkin-group.northwestern.edu/event/hockey-specials/
END:VEVENT
BEGIN:VEVENT
DTSTART;VALUE=DATE:20151126
DTEND;VALUE=DATE:20151127
DTSTAMP:20260424T062754
CREATED:20151122T234613Z
LAST-MODIFIED:20151123T205907Z
UID:631-1448496000-1448582399@mirkin-group.northwestern.edu
SUMMARY:Football Specials
DESCRIPTION:Watch Football and Enjoy our Food Specials on Saturdays & Sundays in Old Town.\nLooking to reserve the best seats in the house? Check our football reservations policy and book in advance!
URL:https://mirkin-group.northwestern.edu/event/football-specials/
ATTACH;FMTTYPE=image/jpeg:https://mirkin-group.northwestern.edu/wp-content/uploads/2015/11/600x4001.jpg
END:VEVENT
END:VCALENDAR